Workbook

Sheet 注文書(Excel版用) 
A1: 甲 州 苗 木 注 文 書
K3: 注文日
M5: 受付締切：R８.１０.３１
A6: 山梨県農業振興公社 行 | M6: FAX：０５５-２２３-２１１７
M7: （TEL:055-232-2760） | O7: 入力手順
A9: ご住所 | B9: 〒 | O9: ① | P9: 注文日に、数値を入力⇒左は月、右は、日にち
O11: ② | P11: 住所のセルに、ひらがなモードで、郵便番号をハイフン入りで入力し、「スペース」キーを２回押し、住所の変換候補を選択
A12: （ふりがな） | B12: =PHONETIC(B13) | J12: 会社のご担当者 | P12: 〈その入力した郵便番号が、上の郵便番号欄に自動で入力されます〉
A13: ご氏名 | J13: （ふりがな） | K13: =PHONETIC(J14) | O13: ③ | P13: 氏名又は会社名、ご担当者氏名を入力 〈ふりがなは自動で入力されます〉
A14: （社名） | I14: 様 | M14: 様 | O14: ④ | P14: TEL番号とFAX番号を入力
A15: ＴＥＬ | I15: ＦＡＸ
A17: 系統名 ／ 台木品種 | G17: 等級 (苗) | I17: 数量 （本） | J17: 単価 （円） | L17: 金額〈税別〉 (円) | O17: ⑤ | P17: 注文する、系統名/台木の、等級欄をプルダウンリストより、選択する(単価自動入力)
A18: ＫＷ０１／台木5BB | J18: =IFERROR(VLOOKUP(G18,リスト!$B$3:$C$5,2,FALSE),"") | L18: =IFERROR(I18*J18,"") | O18: ⑥ | P18: 注文本数を入力〈金額が自動で計算されます〉
A19: ＫＷ０２／台木5BB | J19: =IFERROR(VLOOKUP(G19,リスト!$B$3:$C$5,2,FALSE),"") | L19: =IFERROR(I19*J19,"") | O19: ⑦ | P19: ご注文の目的を、該当項目の前のセルをクリックして、●印を選択する
A20: ＫＷ０５／台木101-14 | J20: =IFERROR(VLOOKUP(G20,リスト!$B$3:$C$5,2,FALSE),"") | L20: =IFERROR(I20*J20,"") | O20: ⑧ | P20: 通信欄にご希望等あれば入力
A21: ＫＷ０５／台木グロワール | J21: =IFERROR(VLOOKUP(G21,リスト!$B$3:$C$5,2,FALSE),"") | L21: =IFERROR(I21*J21,"")
A22: ＫＷ０６／台木5BB | J22: =IFERROR(VLOOKUP(G22,リスト!$B$3:$C$5,2,FALSE),"") | L22: =IFERROR(I22*J22,"")
A23: ＫＷ０６／台木101-14 | J23: =IFERROR(VLOOKUP(G23,リスト!$B$3:$C$5,2,FALSE),"") | L23: =IFERROR(I23*J23,"")
A24: ＫＷ０６／台木グロワール | J24: =IFERROR(VLOOKUP(G24,リスト!$B$3:$C$5,2,FALSE),"") | L24: =IFERROR(I24*J24,"")
A25: 小 計 | I25: =SUM(I18:I24) -> 0 | J25: －－－ | L25: =SUM(L18:M24) -> 0
A26: 消費税（10％） | J26: －－－ | L26: =ROUNDDOWN(L25*0.1,0) -> 0
A27: ☆お客様へ ご注文の目的：該当項目の前のセルをクリックして●を選択して下さい | J27: 合計金額 | L27: =SUM(L25:M26) -> 0
C28: 新植 | E28: 甲州を改植 | G28: 生食用ブドウを改植
A29: 備考（通信欄）
A32: ＜等級/単価(税別)＞ 特上苗：2,200円、上苗：1,800円、中苗：1,400円
A33: 注）系統及び等級別の苗の販売本数は、申し込みが販売予定本数を超えた場合は、注文締め切り 後に調整させていただきます。 ご注文に応じられる系統及び本数につきましては、後日(11/下旬頃)郵送する注文確定振込依頼 書を御確認ください。 また、苗木は指定口座への代金振込を確認したうえで、現地（甲斐市：総合農業技術センター） での引渡しとなります。引渡し日につきましては、１２月中旬頃を予定していますが、詳細は、 後日郵送する注文確定、振込依頼書で希望日をご指定ください。 なお、振込手数料は送金者のご負担とさせていただきます。
A34: ※甲州の推奨系統（KW01、KW02、KW05、KW06）は、「山梨ワイン産地確立推進計画」推進連絡会議 で選抜しましたので、山梨県内のみでの栽培とし、県外へは持ち出し禁止とします。
A35: ※注文票のご送付から１週間経っても受付確認の返信がない場合には、TEL:055-232-2760 までお問い合わせください。

Sheet 注文書(PDF版用)
A1: 甲 州 苗 木 注 文 書
K3: 注文日
M5: 受付締切：R８.１０.３１
A6: 山梨県農業振興公社 行 | M6: FAX：０５５-２２３-２１１７
M7: （TEL:055-232-2760） | O7: 入力手順
A9: ご住所 | B9: 〒 | O9: ① | P9: 注文日に、数値を入力⇒左は月、右は、日にち
O11: ② | P11: 住所のセルに、ひらがなモードで、郵便番号をハイフン入りで入力し、「スペース」キーを２回押し、住所の変換候補を選択
A12: （ふりがな） | B12: =PHONETIC(B13) | J12: 会社のご担当者 | P12: 〈その入力した郵便番号が、上の郵便番号欄に自動で入力されます〉
A13: ご氏名 | J13: （ふりがな） | K13: =PHONETIC(J14) | O13: ③ | P13: 氏名又は会社名、ご担当者氏名を入力 〈ふりがなは自動で入力されます〉
A14: （社名） | I14: 様 | M14: 様 | O14: ④ | P14: TEL番号とFAX番号を入力
A15: ＴＥＬ | I15: ＦＡＸ
A17: 系統名 ／ 台木品種 | G17: 等級 (苗) | I17: 数量 （本） | J17: 単価 （円） | L17: 金額〈税別〉 (円) | O17: ⑤ | P17: 注文する、系統名/台木の、等級欄をプルダウンリストより、選択する(単価自動入力)
A18: ＫＷ０１／台木5BB | J18: =IFERROR(VLOOKUP(G18,リスト!$B$3:$C$5,2,FALSE),"") | L18: =IFERROR(I18*J18,"") | O18: ⑥ | P18: 注文本数を入力〈金額が自動で計算されます〉
A19: ＫＷ０２／台木5BB | J19: =IFERROR(VLOOKUP(G19,リスト!$B$3:$C$5,2,FALSE),"") | L19: =IFERROR(I19*J19,"") | O19: ⑦ | P19: ご注文の目的を、該当項目の前のセルをクリックして、●印を選択する
A20: ＫＷ０５／台木101-14 | J20: =IFERROR(VLOOKUP(G20,リスト!$B$3:$C$5,2,FALSE),"") | L20: =IFERROR(I20*J20,"") | O20: ⑧ | P20: 通信欄にご希望等あれば入力
A21: ＫＷ０５／台木グロワール | J21: =IFERROR(VLOOKUP(G21,リスト!$B$3:$C$5,2,FALSE),"") | L21: =IFERROR(I21*J21,"")
A22: ＫＷ０６／台木5BB | J22: =IFERROR(VLOOKUP(G22,リスト!$B$3:$C$5,2,FALSE),"") | L22: =IFERROR(I22*J22,"")
A23: ＫＷ０６／台木101-14 | J23: =IFERROR(VLOOKUP(G23,リスト!$B$3:$C$5,2,FALSE),"") | L23: =IFERROR(I23*J23,"")
A24: ＫＷ０６／台木グロワール | J24: =IFERROR(VLOOKUP(G24,リスト!$B$3:$C$5,2,FALSE),"") | L24: =IFERROR(I24*J24,"")
A25: 小 計 | I25: =SUM(I18:I24) -> 0 | J25: －－－ | L25: =SUM(L18:M24) -> 0
A26: 消費税（10％） | J26: －－－ | L26: =ROUNDDOWN(L25*0.1,0) -> 0
A27: ☆お客様へ ご注文の目的：いずれかに○印を付けて下さい | J27: 合計金額 | L27: =SUM(L25:M26) -> 0
A28: 新植 | D28: 甲州を改植 | F28: 生食用ブドウを改植
A29: 備考（通信欄）
A32: ＜等級/単価(税別)＞ 特上苗：2,200円、上苗：1,800円、中苗：1,400円
A33: 注）系統及び等級別の苗の販売本数は、申し込みが販売予定本数を超えた場合は、注文締め切り 後に調整させていただきます。 ご注文に応じられる系統及び本数につきましては、後日(11/下旬頃)郵送する注文確定振込依頼 書を御確認ください。 また、苗木は指定口座への代金振込を確認したうえで、現地（甲斐市：総合農業技術センター） での引渡しとなります。引渡し日につきましては、１２月中旬頃を予定していますが、詳細は、 後日郵送する注文確定、振込依頼書で希望日をご指定ください。 なお、振込手数料は送金者のご負担とさせていただきます。
A34: ※甲州の推奨系統（KW01、KW02、KW05、KW06）は、「山梨ワイン産地確立推進計画」推進連絡会議 で選抜しましたので、山梨県内のみでの栽培とし、県外へは持ち出し禁止とします。
A35: ※注文票のご送付から１週間経っても受付確認の返信がない場合には、TEL:055-232-2760 までお問い合わせください。

Sheet リスト
B3: 特上 | C3: 2200
B4: 上 | C4: 1800
B5: 中 | C5: 1400
C12: ●
